BEGIN:VCALENDAR
VERSION:2.0
PRODID:-//Dielectrics and Electrical Insulation Society - ECPv6.15.20//NONSGML v1.0//EN
CALSCALE:GREGORIAN
METHOD:PUBLISH
X-WR-CALNAME:Dielectrics and Electrical Insulation Society
X-ORIGINAL-URL:https://ieeedeis.org
X-WR-CALDESC:Events for Dielectrics and Electrical Insulation Society
REFRESH-INTERVAL;VALUE=DURATION:PT1H
X-Robots-Tag:noindex
X-PUBLISHED-TTL:PT1H
BEGIN:VTIMEZONE
TZID:America/New_York
BEGIN:DAYLIGHT
TZOFFSETFROM:-0500
TZOFFSETTO:-0400
TZNAME:EDT
DTSTART:20170312T070000
END:DAYLIGHT
BEGIN:STANDARD
TZOFFSETFROM:-0400
TZOFFSETTO:-0500
TZNAME:EST
DTSTART:20171105T060000
END:STANDARD
BEGIN:DAYLIGHT
TZOFFSETFROM:-0500
TZOFFSETTO:-0400
TZNAME:EDT
DTSTART:20180311T070000
END:DAYLIGHT
BEGIN:STANDARD
TZOFFSETFROM:-0400
TZOFFSETTO:-0500
TZNAME:EST
DTSTART:20181104T060000
END:STANDARD
BEGIN:DAYLIGHT
TZOFFSETFROM:-0500
TZOFFSETTO:-0400
TZNAME:EDT
DTSTART:20190310T070000
END:DAYLIGHT
BEGIN:STANDARD
TZOFFSETFROM:-0400
TZOFFSETTO:-0500
TZNAME:EST
DTSTART:20191103T060000
END:STANDARD
END:VTIMEZONE
BEGIN:VEVENT
DTSTART;VALUE=DATE:20180520
DTEND;VALUE=DATE:20180525
DTSTAMP:20260424T142027
CREATED:20180409T011125Z
LAST-MODIFIED:20180819T233051Z
UID:1917-1526774400-1527206399@ieeedeis.org
SUMMARY:International Conference on the Properties and Applications of Dielectric Materials
DESCRIPTION:The 12th International Conference on the Properties and Applications of Dielectric Materials takes place in 2018 at Xi’an Jiaotong University in Xi’an\, China. \nThe International Conference on the Properties and Applications of Dielectric Materials (ICPADM)\, provides a forum within the international academic and engineering community for the field of dielectric materials. ICPADM started in Xi’an in 1985 with the initial aim to provide a venue for Chinese electrical insulation and dielectrics researchers to share their research activities but has since grown to include participants from around the world. \nICPADM is sponsored by the IEEE Dielectrics and Electrical Insulation Society. Additional information\, including important dates and deadlines\, can be found on the conference website.
URL:https://ieeedeis.org/event/international-conference-on-the-properties-and-applications-of-dielectric-materials/
LOCATION:Xi’An Jiaotong University\, Xi'an\, China
CATEGORIES:Fully Sponsored Conference
END:VEVENT
END:VCALENDAR