BEGIN:VCALENDAR
VERSION:2.0
PRODID:-//Dielectrics and Electrical Insulation Society - ECPv6.15.20//NONSGML v1.0//EN
CALSCALE:GREGORIAN
METHOD:PUBLISH
X-ORIGINAL-URL:https://ieeedeis.org
X-WR-CALDESC:Events for Dielectrics and Electrical Insulation Society
REFRESH-INTERVAL;VALUE=DURATION:PT1H
X-Robots-Tag:noindex
X-PUBLISHED-TTL:PT1H
BEGIN:VTIMEZONE
TZID:America/New_York
BEGIN:DAYLIGHT
TZOFFSETFROM:-0500
TZOFFSETTO:-0400
TZNAME:EDT
DTSTART:20230312T070000
END:DAYLIGHT
BEGIN:STANDARD
TZOFFSETFROM:-0400
TZOFFSETTO:-0500
TZNAME:EST
DTSTART:20231105T060000
END:STANDARD
BEGIN:DAYLIGHT
TZOFFSETFROM:-0500
TZOFFSETTO:-0400
TZNAME:EDT
DTSTART:20240310T070000
END:DAYLIGHT
BEGIN:STANDARD
TZOFFSETFROM:-0400
TZOFFSETTO:-0500
TZNAME:EST
DTSTART:20241103T060000
END:STANDARD
BEGIN:DAYLIGHT
TZOFFSETFROM:-0500
TZOFFSETTO:-0400
TZNAME:EDT
DTSTART:20250309T070000
END:DAYLIGHT
BEGIN:STANDARD
TZOFFSETFROM:-0400
TZOFFSETTO:-0500
TZNAME:EST
DTSTART:20251102T060000
END:STANDARD
END:VTIMEZONE
BEGIN:VEVENT
DTSTART;VALUE=DATE:20241006
DTEND;VALUE=DATE:20241010
DTSTAMP:20260422T045224
CREATED:20240126T172341Z
LAST-MODIFIED:20240420T165205Z
UID:18715-1728172800-1728518399@ieeedeis.org
SUMMARY:IEEE Conference on Electrical Insulation and Dielectric Phenomena (CEIDP) 2024
DESCRIPTION:CEIDP is an annual research-oriented conference usually based in the Americas\, providing an international forum for the discussion of current research on electrical insulation\, dielectric phenomena and related topics. Some of the topics of interest include biodielectrics\, aging\, high-frequency dielectric phenomena\, surface flashover and treeing\, outdoor insulation\, and polarization phenomena.
URL:https://ieeedeis.org/event/ieee-conference-on-electrical-insulation-and-dielectric-phenomena-ceidp-2024/
LOCATION:Auburn\, AL (USA)\, The Hotel at Auburn University and Dixon Conference Center\, Auburn\, AL\, United States
CATEGORIES:Fully Sponsored Conference
ATTACH;FMTTYPE=image/jpeg:https://ieeedeis.org/wp-content/uploads/2024/01/20230912-samford.jpg
END:VEVENT
END:VCALENDAR