BEGIN:VCALENDAR
VERSION:2.0
PRODID:-//Dielectrics and Electrical Insulation Society - ECPv6.15.20//NONSGML v1.0//EN
CALSCALE:GREGORIAN
METHOD:PUBLISH
X-WR-CALNAME:Dielectrics and Electrical Insulation Society
X-ORIGINAL-URL:https://ieeedeis.org
X-WR-CALDESC:Events for Dielectrics and Electrical Insulation Society
REFRESH-INTERVAL;VALUE=DURATION:PT1H
X-Robots-Tag:noindex
X-PUBLISHED-TTL:PT1H
BEGIN:VTIMEZONE
TZID:America/New_York
BEGIN:DAYLIGHT
TZOFFSETFROM:-0500
TZOFFSETTO:-0400
TZNAME:EDT
DTSTART:20240310T070000
END:DAYLIGHT
BEGIN:STANDARD
TZOFFSETFROM:-0400
TZOFFSETTO:-0500
TZNAME:EST
DTSTART:20241103T060000
END:STANDARD
BEGIN:DAYLIGHT
TZOFFSETFROM:-0500
TZOFFSETTO:-0400
TZNAME:EDT
DTSTART:20250309T070000
END:DAYLIGHT
BEGIN:STANDARD
TZOFFSETFROM:-0400
TZOFFSETTO:-0500
TZNAME:EST
DTSTART:20251102T060000
END:STANDARD
BEGIN:DAYLIGHT
TZOFFSETFROM:-0500
TZOFFSETTO:-0400
TZNAME:EDT
DTSTART:20260308T070000
END:DAYLIGHT
BEGIN:STANDARD
TZOFFSETFROM:-0400
TZOFFSETTO:-0500
TZNAME:EST
DTSTART:20261101T060000
END:STANDARD
END:VTIMEZONE
BEGIN:VTIMEZONE
TZID:Europe/Rome
BEGIN:DAYLIGHT
TZOFFSETFROM:+0100
TZOFFSETTO:+0200
TZNAME:CEST
DTSTART:20240331T010000
END:DAYLIGHT
BEGIN:STANDARD
TZOFFSETFROM:+0200
TZOFFSETTO:+0100
TZNAME:CET
DTSTART:20241027T010000
END:STANDARD
BEGIN:DAYLIGHT
TZOFFSETFROM:+0100
TZOFFSETTO:+0200
TZNAME:CEST
DTSTART:20250330T010000
END:DAYLIGHT
BEGIN:STANDARD
TZOFFSETFROM:+0200
TZOFFSETTO:+0100
TZNAME:CET
DTSTART:20251026T010000
END:STANDARD
BEGIN:DAYLIGHT
TZOFFSETFROM:+0100
TZOFFSETTO:+0200
TZNAME:CEST
DTSTART:20260329T010000
END:DAYLIGHT
BEGIN:STANDARD
TZOFFSETFROM:+0200
TZOFFSETTO:+0100
TZNAME:CET
DTSTART:20261025T010000
END:STANDARD
END:VTIMEZONE
BEGIN:VEVENT
DTSTART;VALUE=DATE:20250901
DTEND;VALUE=DATE:20250906
DTSTAMP:20260424T061644
CREATED:20250214T114128Z
LAST-MODIFIED:20250314T095952Z
UID:24384-1756684800-1757116799@ieeedeis.org
SUMMARY:IEEE International Symposium on Electrets (ISE) 2025
DESCRIPTION:Research-oriented conference on electret materials held anywhere in the world every two years.  Topics of interest include: Charge injection\, transport & trapping; Thermally stimulated current & dielectric relaxation; Nanoscale measurements of electrostatic phenomena; Ferroelectric\, piezoelectric & pyroelectric phenomena; Ferro- and piezoelectrets; Photoelectrets; Electrostatic & dielectric phenomena in life science: Bioelectrets; Non-linear electrical & optical effects; Applications of thin film ferroelectrics; Electrets in organic electronics; Electro-electrets: Soft actuators & sensors. \nThis conference is sponsored by the IEEE Dielectrics and Electrical Insulation Society. Additional conference information can be found here.
URL:https://ieeedeis.org/event/ieee-international-symposium-on-electrets-ise/
LOCATION:Matsue\, Matsue\, Japan
CATEGORIES:Fully Sponsored Conference
END:VEVENT
BEGIN:VEVENT
DTSTART;VALUE=DATE:20250914
DTEND;VALUE=DATE:20250918
DTSTAMP:20260424T061644
CREATED:20250214T113924Z
LAST-MODIFIED:20250314T095828Z
UID:24382-1757808000-1758153599@ieeedeis.org
SUMMARY:IEEE Conference on Electrical Insulation and Dielectric Phenomena (CEIDP) 2025
DESCRIPTION:CEIDP is an annual research-oriented conference usually based in the Americas\, providing an international forum for the discussion of current research on electrical insulation\, dielectric phenomena and related topics. Some of the topics of interest include biodielectrics\, aging\, high-frequency dielectric phenomena\, surface flashover and treeing\, outdoor insulation\, and polarization phenomena.
URL:https://ieeedeis.org/event/international-conference-on-electrical-insulation-and-dielectric-phenomena/
LOCATION:Manchester\, UK\, Conference Centre at the University of Manchester\, Nancy Rothwell Building\, Booth St E\, Manchester M13 9PL\, UK\, Manchester\, United Kingdom
CATEGORIES:Fully Sponsored Conference
END:VEVENT
BEGIN:VEVENT
DTSTART;VALUE=DATE:20250920
DTEND;VALUE=DATE:20250926
DTSTAMP:20260424T061644
CREATED:20250514T123123Z
LAST-MODIFIED:20250514T123123Z
UID:24519-1758326400-1758844799@ieeedeis.org
SUMMARY:IEEE DEIS Summer School - India
DESCRIPTION:In 2025\, the IEEE DEIS will host two prestigious summer schools\, one in China and another in India\, providing a unique platform for students and professionals to engage with the latest advancements in dielectric and electrical insulation research. Applications are now open for the program in India\, which will be held at the renowned Indian Institute of Technology\, Kanpur\, from September 20th to 25th. This summer school promises an enriching experience\, featuring expert-led lectures\, hands-on workshops\, and invaluable networking opportunities\, all within a stimulating academic environment. Participants will have the chance to collaborate with leading scholars and industry experts\, making it an unmissable event for those passionate about innovation and technology.\nMore info here
URL:https://ieeedeis.org/event/ieee-deis-summer-school-india/
LOCATION:Indian Institute of Technology\, Kanpur\, India
END:VEVENT
END:VCALENDAR